BEGIN:VCALENDAR
VERSION:2.0
CALSCALE:GREGORIAN
PRODID:-//Diputació de Barcelona//DibaCMS//EN
BEGIN:VEVENT
UID:5289
DTSTAMP:20260424T002833
DTSTART:20120723T000000
DTEND:20130722T000000
SUMMARY:Neix una nova entitat a la nostra localitat, el Club Esportiu Muntanyenc la Llagosta
LOCATION:
METHOD:PUBLISH
X-WR-CALNAME:llagosta@llagosta.cat
X-WR-TIMEZONE:Europe/Madrid
DESCRIPTION:La Llagosta compta des de fa poc amb una nova entitat dedicada a l'excursionisme i la natura, el Club Esportiu Muntanyenc la Llagosta. Un grup de deu persones formen aquesta associació oberta a tota la ciutadania.
URI:https://www.llagosta.cat/actualitat/noticies/neix-una-nova-entitat-a-la-nostra-localitat-el-club-esportiu-muntanyenc-la-llagosta.html
CLASS:PUBLIC
END:VEVENT
END:VCALENDAR
