BEGIN:VCALENDAR
VERSION:2.0
CALSCALE:GREGORIAN
PRODID:-//Diputació de Barcelona//DibaCMS//EN
BEGIN:VEVENT
UID:5288
DTSTAMP:20260423T204329
DTSTART:20120720T000000
DTEND:20120720T000000
SUMMARY:Mundo Flamenco organitza demà al Centre Cultural el setè certamen de guitarra flamenca
LOCATION:
METHOD:PUBLISH
X-WR-CALNAME:llagosta@llagosta.cat
X-WR-TIMEZONE:Europe/Madrid
DESCRIPTION:El Centre Cultural de la Llagosta acollirà demà el setè certamen de guitarra flamenca La Guitarra y el Pueblo organitzat per Mundo Flamenco. El festival començarà a dos quarts de nou del vespre.
URI:https://www.llagosta.cat/actualitat/noticies/mundo-flamenco-organitza-dema-al-centre-cultural-el-sete-certamen-de-guitarra-flamenca.html
CLASS:PUBLIC
END:VEVENT
END:VCALENDAR
