BEGIN:VCALENDAR
VERSION:2.0
CALSCALE:GREGORIAN
PRODID:-//Diputació de Barcelona//DibaCMS//EN
BEGIN:VEVENT
UID:5287
DTSTAMP:20260424T022158
DTSTART:20120720T000000
DTEND:20130720T000000
SUMMARY:Demà, cinema a la fresca al Parc Popular i la setmana que ve, tastafruites al Mercat Municipal
LOCATION:
METHOD:PUBLISH
X-WR-CALNAME:llagosta@llagosta.cat
X-WR-TIMEZONE:Europe/Madrid
DESCRIPTION:La programació de l'Estiu 2012 ens oferirà demà dissabte la primera sessió del Cinema a la fresca de l'estiu, amb la pel·lícula In Time. D'altra banda, dilluns i dimecres es podrà assistir al Mercat Municipal al Tastafruites.
URI:https://www.llagosta.cat/actualitat/noticies/dema-cinema-a-la-fresca-al-parc-popular-i-la-setmana-que-ve-tastafruites-al-mercat-municipal.html
CLASS:PUBLIC
END:VEVENT
END:VCALENDAR
