BEGIN:VCALENDAR
VERSION:2.0
CALSCALE:GREGORIAN
PRODID:-//Diputació de Barcelona//DibaCMS//EN
BEGIN:VEVENT
UID:5286
DTSTAMP:20260423T224038
DTSTART:20120720T000000
DTEND:20130720T000000
SUMMARY:El Club Deportivo La Concòrdia organitza un torneig de 24 hores de futbol sala masculí
LOCATION:
METHOD:PUBLISH
X-WR-CALNAME:llagosta@llagosta.cat
X-WR-TIMEZONE:Europe/Madrid
DESCRIPTION:Deu equips prendran part aquest cap de setmana a les 24 hores de futbol sala masculí que organitza el Club Deportivo La Concòrdia. Entre els conjunts participants al torneig es troba un conjunt format per jugadores de l'entitat llagostenca. La competició es disputarà al Poliesportiu Riera Seca.
URI:https://www.llagosta.cat/actualitat/noticies/el-club-deportivo-la-concordia-organitza-un-torneig-de-24-hores-de-futbol-sala-masculi.html
CLASS:PUBLIC
END:VEVENT
END:VCALENDAR
