BEGIN:VCALENDAR
VERSION:2.0
CALSCALE:GREGORIAN
PRODID:-//Diputació de Barcelona//DibaCMS//EN
BEGIN:VEVENT
UID:5285
DTSTAMP:20260423T190814
DTSTART:20120720T000000
DTEND:20130720T000000
SUMMARY:Els tres gegants de la Llagosta participaran demà en una trobada a Barcelona
LOCATION:
METHOD:PUBLISH
X-WR-CALNAME:llagosta@llagosta.cat
X-WR-TIMEZONE:Europe/Madrid
DESCRIPTION:Els gegants de la Llagosta seran presents demà a la quarta Trobada gegantera organitzada pels gegants de Sant Jaume, a Barcelona. Per a aquesta sortida, la Torradeta, la geganta que representa una llagosta, ha hagut de ser reparada. 
URI:https://www.llagosta.cat/actualitat/noticies/els-tres-gegants-de-la-llagosta-participaran-dema-en-una-trobada-a-barcelona.html
CLASS:PUBLIC
END:VEVENT
END:VCALENDAR
