BEGIN:VCALENDAR
VERSION:2.0
CALSCALE:GREGORIAN
PRODID:-//Diputació de Barcelona//DibaCMS//EN
BEGIN:VEVENT
UID:5284
DTSTAMP:20260424T003139
DTSTART:20120719T000000
DTEND:20130710T000000
SUMMARY:Vicenç Sisó deixa el càrrec de president de l'Esportiu Bàsquet Club de la Llagosta
LOCATION:
METHOD:PUBLISH
X-WR-CALNAME:llagosta@llagosta.cat
X-WR-TIMEZONE:Europe/Madrid
DESCRIPTION:Vicenç Sisó ha deixat de ser el president de l'Esportiu Bàsquet Club de la Llagosta. Sisó ha pres aquesta decisió després de quatre anys al capdavant de l'entitat. Ara, la nova junta directiva del club es reunirà per decidir qui portarà la presidència i la resta de càrrecs.
URI:https://www.llagosta.cat/actualitat/noticies/vicenc-siso-deixa-el-carrec-de-president-de-lesportiu-basquet-club-de-la-llagosta.html
CLASS:PUBLIC
END:VEVENT
END:VCALENDAR
