BEGIN:VCALENDAR
VERSION:2.0
CALSCALE:GREGORIAN
PRODID:-//Diputació de Barcelona//DibaCMS//EN
BEGIN:VEVENT
UID:5283
DTSTAMP:20260424T073823
DTSTART:20120719T000000
DTEND:20130719T000000
SUMMARY:El Club Esportiu Fondistes de la Llagosta fa un balanç positiu de la temporada
LOCATION:
METHOD:PUBLISH
X-WR-CALNAME:llagosta@llagosta.cat
X-WR-TIMEZONE:Europe/Madrid
DESCRIPTION:El Club Esportiu Fondistes de la Llagosta ha finalitzat la temporada amb l'organització dels Jocs d'atletisme en família, que es van fer dilluns al Parc Popular en el marc de la programació de l'Estiu 2012. Els responsables de l'entitat han fet un balanç positiu d'aquest any.
URI:https://www.llagosta.cat/actualitat/noticies/el-club-esportiu-fondistes-de-la-llagosta-fa-un-balanc-positiu-de-la-temporada.html
CLASS:PUBLIC
END:VEVENT
END:VCALENDAR
