BEGIN:VCALENDAR
VERSION:2.0
CALSCALE:GREGORIAN
PRODID:-//Diputació de Barcelona//DibaCMS//EN
BEGIN:VEVENT
UID:5282
DTSTAMP:20260424T111953
DTSTART:20120719T000000
DTEND:20130709T000000
SUMMARY:Vuit municipis signen un manifest en contra de les darreres mesures del Govern Espanyol
LOCATION:
METHOD:PUBLISH
X-WR-CALNAME:llagosta@llagosta.cat
X-WR-TIMEZONE:Europe/Madrid
DESCRIPTION:Els alcaldes de la Llagosta, Mollet del Vallès, Parets del Vallès, Montornès del Vallès, Montmeló, Sant Fost de Campsentelles, Martorelles i Santa Maria de Martorelles han signat una declaració conjunta en contra de les darreres mesures aprovades pel Govern Central que afecten a les administracions locals. 
URI:https://www.llagosta.cat/actualitat/noticies/vuit-municipis-signen-un-manifest-en-contra-de-les-darreres-mesures-del-govern-espanyol.html
CLASS:PUBLIC
END:VEVENT
END:VCALENDAR
