BEGIN:VCALENDAR
VERSION:2.0
CALSCALE:GREGORIAN
PRODID:-//Diputació de Barcelona//DibaCMS//EN
BEGIN:VEVENT
UID:5281
DTSTAMP:20260424T001638
DTSTART:20120718T000000
DTEND:20130716T000000
SUMMARY:L'Ajuntament de la Llagosta ofereix als ciutadans cinc gossos per ser adoptats
LOCATION:
METHOD:PUBLISH
X-WR-CALNAME:llagosta@llagosta.cat
X-WR-TIMEZONE:Europe/Madrid
DESCRIPTION:L'Ajuntament de la Llagosta té en aquests moments cinc gossos en adopció. Els animals es troben al centre d'acollida de l'entitat Help Guau, a Argentona. El Consistori està buscant persones que vulguin adoptar un d'aquests cinc gossos, recollits al carrer. 
URI:https://www.llagosta.cat/actualitat/noticies/lajuntament-de-la-llagosta-ofereix-als-ciutadans-cinc-gossos-per-ser-adoptats.html
CLASS:PUBLIC
END:VEVENT
END:VCALENDAR
