BEGIN:VCALENDAR
VERSION:2.0
CALSCALE:GREGORIAN
PRODID:-//Diputació de Barcelona//DibaCMS//EN
BEGIN:VEVENT
UID:5280
DTSTAMP:20260424T021349
DTSTART:20120718T000000
DTEND:20130718T000000
SUMMARY:La plaça d'Antoni Baqué acull la cloenda de les activitats d'estiu del Casal Infantil
LOCATION:
METHOD:PUBLISH
X-WR-CALNAME:llagosta@llagosta.cat
X-WR-TIMEZONE:Europe/Madrid
DESCRIPTION:Aquest matí, acaben a la plaça d'Antoni Baqué les activitats d'estiu organitzades pel Casal Municipal Infantil amb la Festa de l'Aigua. Des del 25 de juny, cada dilluns, dimarts i dimecres s'han desenvolupat un seguit de propostes a diferents espais del nostre municipi.
URI:https://www.llagosta.cat/actualitat/noticies/la-placa-dantoni-baque-acull-la-cloenda-de-les-activitats-destiu-del-casal-infantil.html
CLASS:PUBLIC
END:VEVENT
END:VCALENDAR
