BEGIN:VCALENDAR
VERSION:2.0
CALSCALE:GREGORIAN
PRODID:-//Diputació de Barcelona//DibaCMS//EN
BEGIN:VEVENT
UID:5279
DTSTAMP:20260424T061749
DTSTART:20120718T000000
DTEND:20130718T000000
SUMMARY:El CE La Llagosta no tindrà la propera temporada cap amateur a la lliga de la Federació
LOCATION:
METHOD:PUBLISH
X-WR-CALNAME:llagosta@llagosta.cat
X-WR-TIMEZONE:Europe/Madrid
DESCRIPTION:El Club Esportiu La Llagosta no inscriurà la propera temporada cap equip amateur en les competicions que organitza la Federació Catalana de Futbol. Els responsables de l'entitat treballen amb la idea de comptar amb un primer equip per a la Quarta Catalana de cara a la temporada 2013-2014.
URI:https://www.llagosta.cat/actualitat/noticies/el-ce-la-llagosta-no-tindra-la-propera-temporada-cap-amateur-a-la-lliga-de-la-federacio.html
CLASS:PUBLIC
END:VEVENT
END:VCALENDAR
