BEGIN:VCALENDAR
VERSION:2.0
CALSCALE:GREGORIAN
PRODID:-//Diputació de Barcelona//DibaCMS//EN
BEGIN:VEVENT
UID:5278
DTSTAMP:20260424T061402
DTSTART:20120718T000000
DTEND:20130718T000000
SUMMARY:Demà, nou Concert a la fresca de La Llagosta + Activa amb el duo Tanariva
LOCATION:
METHOD:PUBLISH
X-WR-CALNAME:llagosta@llagosta.cat
X-WR-TIMEZONE:Europe/Madrid
DESCRIPTION:La plaça de Cinto Pagès acollirà demà el sisè Concert a la fresca que organitza La Llagosta + Activa. El recital d'aquest dijous anirà a càrrec del duo Tanariva.
URI:https://www.llagosta.cat/actualitat/noticies/dema-nou-concert-a-la-fresca-de-la-llagosta--activa-amb-el-duo-tanariva.html
CLASS:PUBLIC
END:VEVENT
END:VCALENDAR
