BEGIN:VCALENDAR
VERSION:2.0
CALSCALE:GREGORIAN
PRODID:-//Diputació de Barcelona//DibaCMS//EN
BEGIN:VEVENT
UID:5277
DTSTAMP:20260424T020440
DTSTART:20120717T000000
DTEND:20130717T000000
SUMMARY:La llagostenca Aurora García, campiona d'Espanya aleví de natació sincronitzada
LOCATION:
METHOD:PUBLISH
X-WR-CALNAME:llagosta@llagosta.cat
X-WR-TIMEZONE:Europe/Madrid
DESCRIPTION:La veïna de la Llagosta Aurora García s'ha proclamat campiona d'Espanya d'estiu de natació sincronitzada per equips de la categoria aleví. El seu club, el Natació Granollers, ha participat a la competició que s'ha celebrat fins diumenge a Astúries.
García, a més, ha estat medalla d'or en rutina combinada i bronze en duo. 
URI:https://www.llagosta.cat/actualitat/noticies/la-llagostenca-aurora-garcia-campiona-despanya-alevi-de-natacio-sincronitzada.html
CLASS:PUBLIC
END:VEVENT
END:VCALENDAR
