BEGIN:VCALENDAR
VERSION:2.0
CALSCALE:GREGORIAN
PRODID:-//Diputació de Barcelona//DibaCMS//EN
BEGIN:VEVENT
UID:5276
DTSTAMP:20260424T001930
DTSTART:20120717T000000
DTEND:20130717T000000
SUMMARY:L'Ajuntament avança la programació de la Festa Major de la Llagosta 2012
LOCATION:
METHOD:PUBLISH
X-WR-CALNAME:llagosta@llagosta.cat
X-WR-TIMEZONE:Europe/Madrid
DESCRIPTION:L'Ajuntament de la Llagosta ja té pràcticament enllestit el programa de Festa Major 2012. Del 8 a l'11 de setembre es desenvoluparan a la nostra localitat una seixantena d'activitats de tot tipus i per a tots els públics. Aquest any, destaquen algunes novetats a la programació preparada pel Consistori com nous espais i més disco mòbils.
URI:https://www.llagosta.cat/actualitat/noticies/lajuntament-avanca-la-programacio-de-la-festa-major-de-la-llagosta-2012.html
CLASS:PUBLIC
END:VEVENT
END:VCALENDAR
