BEGIN:VCALENDAR
VERSION:2.0
CALSCALE:GREGORIAN
PRODID:-//Diputació de Barcelona//DibaCMS//EN
BEGIN:VEVENT
UID:5275
DTSTAMP:20260424T053439
DTSTART:20120717T000000
DTEND:20130717T000000
SUMMARY:Consells dels Mossos d'Esquadra per evitar robatoris a domicili durant les vacances
LOCATION:
METHOD:PUBLISH
X-WR-CALNAME:llagosta@llagosta.cat
X-WR-TIMEZONE:Europe/Madrid
DESCRIPTION:L'Oficina de Relacions amb la Comunitat de la Comissaria dels Mossos d'Esquadra de Mollet del Vallès ha donat una sèrie de consells per evitar robatoris a domicilis a aquelles persones que marxin de vacances durant l'estiu. Els Mossos d'Esquadra recorden que és important que no quedi clar que l'habitatge ha quedat buit. 
URI:https://www.llagosta.cat/actualitat/noticies/consells-dels-mossos-desquadra-per-evitar-robatoris-a-domicili-durant-les-vacances.html
CLASS:PUBLIC
END:VEVENT
END:VCALENDAR
