BEGIN:VCALENDAR
VERSION:2.0
CALSCALE:GREGORIAN
PRODID:-//Diputació de Barcelona//DibaCMS//EN
BEGIN:VEVENT
UID:5274
DTSTAMP:20260424T094209
DTSTART:20120716T000000
DTEND:20130716T000000
SUMMARY:José Manuel Poyato confirma que seguirà com a entrenador del FS Unión Llagostense
LOCATION:
METHOD:PUBLISH
X-WR-CALNAME:llagosta@llagosta.cat
X-WR-TIMEZONE:Europe/Madrid
DESCRIPTION:José Manuel Poyato continuarà com a tècnic del Fútbol Sala Unión Llagostense. L'equip de la nostra localitat seguirà jugant a la Divisió d'Honor de la Federació Catalana de Futbol Sala, competició a la qual va debutar la temporada passada.
URI:https://www.llagosta.cat/actualitat/noticies/jose-manuel-poyato-confirma-que-seguira-com-a-entrenador-del-fs-union-llagostense.html
CLASS:PUBLIC
END:VEVENT
END:VCALENDAR
