BEGIN:VCALENDAR
VERSION:2.0
CALSCALE:GREGORIAN
PRODID:-//Diputació de Barcelona//DibaCMS//EN
BEGIN:VEVENT
UID:5272
DTSTAMP:20260424T092714
DTSTART:20120716T000000
DTEND:20130716T000000
SUMMARY:Aquesta setmana continuen les activitats de la programació de l'Estiu 2012
LOCATION:
METHOD:PUBLISH
X-WR-CALNAME:llagosta@llagosta.cat
X-WR-TIMEZONE:Europe/Madrid
DESCRIPTION:La programació de l'Estiu 2012 continua aquesta setmana. Avui i demà, el Parc Popular, la plaça de la Sardana i l'Escola Joan Maragall acolliran diverses activitats. 
URI:https://www.llagosta.cat/actualitat/noticies/aquesta-setmana-continuen-les-activitats-de-la-programacio-de-lestiu-2012.html
CLASS:PUBLIC
END:VEVENT
END:VCALENDAR
