BEGIN:VCALENDAR
VERSION:2.0
CALSCALE:GREGORIAN
PRODID:-//Diputació de Barcelona//DibaCMS//EN
BEGIN:VEVENT
UID:5271
DTSTAMP:20260424T001840
DTSTART:20120713T000000
DTEND:20130713T000000
SUMMARY:Avui comencen les colònies d'estiu del Racó d'Esplai Sant Josep de la Llagosta
LOCATION:
METHOD:PUBLISH
X-WR-CALNAME:llagosta@llagosta.cat
X-WR-TIMEZONE:Europe/Madrid
DESCRIPTION:El Racó d'Esplai Sant Josep de la Llagosta inicia avui les colònies d'estiu 2012. El centre de la nostra localitat compartirà novament activitats amb l'esplai Arco Iris de la parròquia del Sant Esperit de Barcelona. En total, 41 infants prenen part en aquest projecte educatiu.
URI:https://www.llagosta.cat/actualitat/noticies/avui-comencen-les-colonies-destiu-del-raco-desplai-sant-josep-de-la-llagosta.html
CLASS:PUBLIC
END:VEVENT
END:VCALENDAR
