BEGIN:VCALENDAR
VERSION:2.0
CALSCALE:GREGORIAN
PRODID:-//Diputació de Barcelona//DibaCMS//EN
BEGIN:VEVENT
UID:5269
DTSTAMP:20260424T041316
DTSTART:20120713T000000
DTEND:20130713T000000
SUMMARY:Durant el mes de juny es va reduir el nombre d'aturats de la Llagosta en 47 persones
LOCATION:
METHOD:PUBLISH
X-WR-CALNAME:llagosta@llagosta.cat
X-WR-TIMEZONE:Europe/Madrid
DESCRIPTION:L'atur a la Llagosta va baixar al mes de juny en 47 persones. Aquest descens se suma a la baixada en 23 persones del maig. Així, segons les dades facilitades per l'Observatori del Vallès Oriental, a la Llagosta, hi havia el mes passat 1.462 inscrits a l'Oficina de Treball de la Generalitat.
URI:https://www.llagosta.cat/actualitat/noticies/durant-el-mes-de-juny-es-va-reduir-el-nombre-daturats-de-la-llagosta-en-47-persones.html
CLASS:PUBLIC
END:VEVENT
END:VCALENDAR
