BEGIN:VCALENDAR
VERSION:2.0
CALSCALE:GREGORIAN
PRODID:-//Diputació de Barcelona//DibaCMS//EN
BEGIN:VEVENT
UID:5268
DTSTAMP:20260424T075353
DTSTART:20120712T000000
DTEND:20130712T000000
SUMMARY:L'Ajuntament ha adjudicat pes obres de millora de les cambres frigorífiques del Mercat
LOCATION:
METHOD:PUBLISH
X-WR-CALNAME:llagosta@llagosta.cat
X-WR-TIMEZONE:Europe/Madrid
DESCRIPTION:En uns dies començaran les obres d'adequació i millora de les cambres frigorífiques del Mercat Municipal. L'Ajuntament de la Llagosta ha adjudicat aquesta actuació a l'empresa Martín Hidalgo Industrias per un import de poc més de 88.300 euros. 
URI:https://www.llagosta.cat/actualitat/noticies/lajuntament-ha-adjudicat-pes-obres-de-millora-de-les-cambres-frigorifiques-del-mercat.html
CLASS:PUBLIC
END:VEVENT
END:VCALENDAR
