BEGIN:VCALENDAR
VERSION:2.0
CALSCALE:GREGORIAN
PRODID:-//Diputació de Barcelona//DibaCMS//EN
BEGIN:VEVENT
UID:5266
DTSTAMP:20260424T073745
DTSTART:20120712T000000
DTEND:20130712T000000
SUMMARY:El Joventut Handbol la Llagosta comptarà amb un conjunt sènior la propera temporada
LOCATION:
METHOD:PUBLISH
X-WR-CALNAME:llagosta@llagosta.cat
X-WR-TIMEZONE:Europe/Madrid
DESCRIPTION:El Joventut Handbol la Llagosta tindrà la propera temporada un equip sènior. El club de la nostra localitat compta amb una dotzena de jugadors per configurar un conjunt que jugarà a Tercera Catalana.
URI:https://www.llagosta.cat/actualitat/noticies/el-joventut-handbol-la-llagosta-comptara-amb-un-conjunt-senior-la-propera-temporada.html
CLASS:PUBLIC
END:VEVENT
END:VCALENDAR
