BEGIN:VCALENDAR
VERSION:2.0
CALSCALE:GREGORIAN
PRODID:-//Diputació de Barcelona//DibaCMS//EN
BEGIN:VEVENT
UID:5265
DTSTAMP:20260424T002040
DTSTART:20120712T000000
DTEND:20130712T000000
SUMMARY:El Consistori llagostenc ja forma part de la mancomunitat El Galzeran
LOCATION:
METHOD:PUBLISH
X-WR-CALNAME:llagosta@llagosta.cat
X-WR-TIMEZONE:Europe/Madrid
DESCRIPTION:L'Ajuntament de la Llagosta ja forma part de la mancomunitat El Galzeran. El Consistori havia aprovat durant el ple ordinari del mes de juny la sol·licitud d'adhesió, que ara ha estat admesa. 
URI:https://www.llagosta.cat/actualitat/noticies/el-consistori-llagostenc-ja-forma-part-de-la-mancomunitat-el-galzeran.html
CLASS:PUBLIC
END:VEVENT
END:VCALENDAR
