BEGIN:VCALENDAR
VERSION:2.0
CALSCALE:GREGORIAN
PRODID:-//Diputació de Barcelona//DibaCMS//EN
BEGIN:VEVENT
UID:5264
DTSTAMP:20260424T073709
DTSTART:20120711T000000
DTEND:20130711T000000
SUMMARY:L'equip del Síndic de Greuges estarà demà a l'Escola Joan Maragall de la Llagosta
LOCATION:
METHOD:PUBLISH
X-WR-CALNAME:llagosta@llagosta.cat
X-WR-TIMEZONE:Europe/Madrid
DESCRIPTION:L'equip del Síndic de Greuges de Catalunya vindrà demà a la Llagosta per atendre les consultes o queixes que han formulat prèviament alguns veïns de la nostra localitat. Les visites s'atendran a l'Escola Joan Maragall.
URI:https://www.llagosta.cat/actualitat/noticies/lequip-del-sindic-de-greuges-estara-dema-a-lescola-joan-maragall-de-la-llagosta.html
CLASS:PUBLIC
END:VEVENT
END:VCALENDAR
