BEGIN:VCALENDAR
VERSION:2.0
CALSCALE:GREGORIAN
PRODID:-//Diputació de Barcelona//DibaCMS//EN
BEGIN:VEVENT
UID:5263
DTSTAMP:20260423T205230
DTSTART:20120711T000000
DTEND:20130711T000000
SUMMARY:El segon Campus d'Handbol Antonio García es desenvolupa a Vilanova 
LOCATION:
METHOD:PUBLISH
X-WR-CALNAME:llagosta@llagosta.cat
X-WR-TIMEZONE:Europe/Madrid
DESCRIPTION:Un total de 56 infants participen en el segon Campus d'Handbol Antonio García des de diumenge passat i fins al 15 de juliol a Vilanova de Sau. El campus està organitzat per l'esportista llagostenc, mestres especialitzats en educació física i altres veïns de la nostra localitat relacionats amb l'handbol, com Xavi Canalejas.
URI:https://www.llagosta.cat/actualitat/noticies/el-segon-campus-dhandbol-antonio-garcia-es-desenvolupa-a-vilanova-.html
CLASS:PUBLIC
END:VEVENT
END:VCALENDAR
