BEGIN:VCALENDAR
VERSION:2.0
CALSCALE:GREGORIAN
PRODID:-//Diputació de Barcelona//DibaCMS//EN
BEGIN:VEVENT
UID:5262
DTSTAMP:20260423T135143
DTSTART:20120711T000000
DTEND:20120716T000000
SUMMARY:La primera Mostra d'Entitats de la Llagosta es va celebrar dissabte amb molta calor
LOCATION:
METHOD:PUBLISH
X-WR-CALNAME:llagosta@llagosta.cat
X-WR-TIMEZONE:Europe/Madrid
DESCRIPTION:La calor va marcar dissabte la primera Mostra d'Entitats de la Llagosta. Durant les hores de més sol, l'afluència de públic no va ser gaire gran. La tarda va ser diferent. El Parc Popular va rebre força visitants, que van poder conèixer bona part del teixit associatiu de la nostra localitat.
URI:https://www.llagosta.cat/actualitat/noticies/14-04-2015-la-primera-mostra-dentitats-de-la-llagosta-es-va-celebrar-dissabte-amb-molta-calor.html
CLASS:PUBLIC
END:VEVENT
END:VCALENDAR
