BEGIN:VCALENDAR
VERSION:2.0
CALSCALE:GREGORIAN
PRODID:-//Diputació de Barcelona//DibaCMS//EN
BEGIN:VEVENT
UID:5261
DTSTAMP:20260423T152439
DTSTART:20120711T000000
DTEND:20130711T000000
SUMMARY:Demà, nou concert a la fresca de la Llagosta + Activa amb el grup Maude
LOCATION:
METHOD:PUBLISH
X-WR-CALNAME:llagosta@llagosta.cat
X-WR-TIMEZONE:Europe/Madrid
DESCRIPTION:La Llagosta + Activa organitzarà demà una nova sessió del Concert a la fresca. En aquesta ocasió, el grup convidat és Maude, una banda d'indie-pop. El recital de demà començarà a les vuit del vespre i es farà a la plaça de la Sardana.
URI:https://www.llagosta.cat/actualitat/noticies/dema-nou-concert-a-la-fresca-de-la-llagosta--activa-amb-el-grup-maude.html
CLASS:PUBLIC
END:VEVENT
END:VCALENDAR
