BEGIN:VCALENDAR
VERSION:2.0
CALSCALE:GREGORIAN
PRODID:-//Diputació de Barcelona//DibaCMS//EN
BEGIN:VEVENT
UID:5260
DTSTAMP:20260423T101232
DTSTART:20120711T000000
DTEND:20130711T000000
SUMMARY:El Consistori subvenciona part del cost del transport adaptat per a discapacitats
LOCATION:
METHOD:PUBLISH
X-WR-CALNAME:llagosta@llagosta.cat
X-WR-TIMEZONE:Europe/Madrid
DESCRIPTION:L'Ajuntament de la Llagosta subvencionarà amb 1.400 euros part del cost del transport adaptat per a persones amb discapacitats físiques i/o mentals. D'aquesta manera, el Consistori vol atenuar la retallada que ha aplicat la Generalitat en aquest servei. 
URI:https://www.llagosta.cat/actualitat/noticies/el-consistori-subvenciona-part-del-cost-del-transport-adaptat-per-a-discapacitats.html
CLASS:PUBLIC
END:VEVENT
END:VCALENDAR
