BEGIN:VCALENDAR
VERSION:2.0
CALSCALE:GREGORIAN
PRODID:-//Diputació de Barcelona//DibaCMS//EN
BEGIN:VEVENT
UID:5259
DTSTAMP:20260424T130313
DTSTART:20120710T000000
DTEND:20130710T000000
SUMMARY:El CD La Concòrdia guanya per segon any seguit el torneig de 24 hores de Tàrrega
LOCATION:
METHOD:PUBLISH
X-WR-CALNAME:llagosta@llagosta.cat
X-WR-TIMEZONE:Europe/Madrid
DESCRIPTION:El Club Deportivo La Concòrdia s'ha proclamat campió del torneig de 24 hores de futbol sala femení que es va disputar el cap de setmana passat a Tàrrega. És el segon any seguit que l'equip llagostenc aconsegueix guanyar aquesta competició. Aquest any el nivell era més alt que l'any passat.
URI:https://www.llagosta.cat/actualitat/noticies/el-cd-la-concordia-guanya-per-segon-any-seguit-el-torneig-de-24-hores-de-tarrega.html
CLASS:PUBLIC
END:VEVENT
END:VCALENDAR
