BEGIN:VCALENDAR
VERSION:2.0
CALSCALE:GREGORIAN
PRODID:-//Diputació de Barcelona//DibaCMS//EN
BEGIN:VEVENT
UID:5258
DTSTAMP:20260423T205202
DTSTART:20120710T000000
DTEND:20130710T000000
SUMMARY:Jaume Bonallach segueix com a president de La Llagosta Club de Ball
LOCATION:
METHOD:PUBLISH
X-WR-CALNAME:llagosta@llagosta.cat
X-WR-TIMEZONE:Europe/Madrid
DESCRIPTION:Jaume Bonallach seguirà un any més com a president de La Llagosta Club de Ball. L'assemblea anual que, recentment, va celebrar l'entitat, va acordar la continuïtat de tots els membres de la junta directiva.
URI:https://www.llagosta.cat/actualitat/noticies/jaume-bonallach-segueix-com-a-president-de-la-llagosta-club-de-ball.html
CLASS:PUBLIC
END:VEVENT
END:VCALENDAR
