BEGIN:VCALENDAR
VERSION:2.0
CALSCALE:GREGORIAN
PRODID:-//Diputació de Barcelona//DibaCMS//EN
BEGIN:VEVENT
UID:5257
DTSTAMP:20260424T041701
DTSTART:20120710T000000
DTEND:20130710T000000
SUMMARY:El Consistori publica al web per primer vegada el llistat amb les subvencions a les entitats
LOCATION:
METHOD:PUBLISH
X-WR-CALNAME:llagosta@llagosta.cat
X-WR-TIMEZONE:Europe/Madrid
DESCRIPTION:L'Ajuntament de la Llagosta ha fet públiques per primera vegada les subvencions que s'atorguen anualment a les entitats socials, culturals i esportives del municipi. El document es pot consultar al tauler d'anuncis d'aquest web.
URI:https://www.llagosta.cat/actualitat/noticies/el-consistori-publica-al-web-per-primer-vegada-el-llistat-amb-les-subvencions-a-les-entitats.html
CLASS:PUBLIC
END:VEVENT
END:VCALENDAR
