BEGIN:VCALENDAR
VERSION:2.0
CALSCALE:GREGORIAN
PRODID:-//Diputació de Barcelona//DibaCMS//EN
BEGIN:VEVENT
UID:5256
DTSTAMP:20260424T073605
DTSTART:20120710T000000
DTEND:20130710T000000
SUMMARY:L'Institut Marina farà el proper curs jornada contínua, de vuit del matí a dos quarts de tres
LOCATION:
METHOD:PUBLISH
X-WR-CALNAME:llagosta@llagosta.cat
X-WR-TIMEZONE:Europe/Madrid
DESCRIPTION:L'Institut Marina de la Llagosta aplicarà el proper curs la jornada contínua a l'Ensenyament Secundari Obligatori i al Batxillerat. Els alumnes faran classe de vuit del matí a dos quarts de tres de la tarda. Aquest serà l'horari que faran molts centres de Secundària a Catalunya.
URI:https://www.llagosta.cat/actualitat/noticies/linstitut-marina-fara-el-proper-curs-jornada-continua-de-vuit-del-mati-a-dos-quarts-de-tres.html
CLASS:PUBLIC
END:VEVENT
END:VCALENDAR
