BEGIN:VCALENDAR
VERSION:2.0
CALSCALE:GREGORIAN
PRODID:-//Diputació de Barcelona//DibaCMS//EN
BEGIN:VEVENT
UID:5255
DTSTAMP:20260423T121357
DTSTART:20120709T000000
DTEND:20130709T000000
SUMMARY:Convocada la dotzena edició del Concurs Nacional de Fotografia La Llagosta
LOCATION:
METHOD:PUBLISH
X-WR-CALNAME:llagosta@llagosta.cat
X-WR-TIMEZONE:Europe/Madrid
DESCRIPTION:El Foto-Club la Llagosta ha convocat la dotzena edició del Concurs Nacional de Fotografia La Llagosta. Les imatges es poden presentar fins al 5 de setembre a Can Pelegrí o per correu a l'apartat de correus 32 de la nostra localitat.
URI:https://www.llagosta.cat/actualitat/noticies/convocada-la-dotzena-edicio-del-concurs-nacional-de-fotografia-la-llagosta.html
CLASS:PUBLIC
END:VEVENT
END:VCALENDAR
