BEGIN:VCALENDAR
VERSION:2.0
CALSCALE:GREGORIAN
PRODID:-//Diputació de Barcelona//DibaCMS//EN
BEGIN:VEVENT
UID:5254
DTSTAMP:20260423T081621
DTSTART:20120709T000000
DTEND:20130709T000000
SUMMARY:El conjunt BVG Advocats guanya el torneig de 24 hores de futbol de la Unión Llagostense
LOCATION:
METHOD:PUBLISH
X-WR-CALNAME:llagosta@llagosta.cat
X-WR-TIMEZONE:Europe/Madrid
DESCRIPTION:L'equip BVG Advocats ha guanyat les 24 hores de futbol sala organitzades el cap de setmana al Poliesportiu Riera Seca pel Futbol Sala Unión Llagostense. La competició va començar dissabte a les dues del migdia i el lliurament de premis es va fer ahir a la mateixa hora.
URI:https://www.llagosta.cat/actualitat/noticies/el-conjunt-bvg-advocats-guanya-el-torneig-de-24-hores-de-futbol-de-la-union-llagostense.html
CLASS:PUBLIC
END:VEVENT
END:VCALENDAR
