BEGIN:VCALENDAR
VERSION:2.0
CALSCALE:GREGORIAN
PRODID:-//Diputació de Barcelona//DibaCMS//EN
BEGIN:VEVENT
UID:5253
DTSTAMP:20260423T121606
DTSTART:20120709T000000
DTEND:20130709T000000
SUMMARY:Bona presència de públic durant la quinzena edició de la festa en honor a Santiago Apòstol
LOCATION:
METHOD:PUBLISH
X-WR-CALNAME:llagosta@llagosta.cat
X-WR-TIMEZONE:Europe/Madrid
DESCRIPTION:La quinzena festa en honor a Santiago Apòstol, organitzada per l’Agrupación Cultural Galega Alborada, va comptar el cap de setmana amb una bona presència de públic. La celebració va començar divendres a la tarda i va finalitzar ahir amb el castell de focs artificials.
URI:https://www.llagosta.cat/actualitat/noticies/bona-presencia-de-public-durant-la-quinzena-edicio-de-la-festa-en-honor-a-santiago-apostol.html
CLASS:PUBLIC
END:VEVENT
END:VCALENDAR
