BEGIN:VCALENDAR
VERSION:2.0
CALSCALE:GREGORIAN
PRODID:-//Diputació de Barcelona//DibaCMS//EN
BEGIN:VEVENT
UID:5252
DTSTAMP:20260424T035654
DTSTART:20120709T000000
DTEND:20130709T000000
SUMMARY:La programació d'activitats Estiu 2012 de la Llagosta continua aquesta setmana
LOCATION:
METHOD:PUBLISH
X-WR-CALNAME:llagosta@llagosta.cat
X-WR-TIMEZONE:Europe/Madrid
DESCRIPTION:Aquesta setmana continua la programació de l'Estiu 2012. Els primers dies de la setmana, els infants i les seves famílies són els principals destinataris de les activitats organitzades. Aquest matí, es fan al Parc Popular Jocs per compartir de gran format realitzats pel Casal Infantil. 
URI:https://www.llagosta.cat/actualitat/noticies/la-programacio-dactivitats-estiu-2012-de-la-llagosta-continua-aquesta-setmana.html
CLASS:PUBLIC
END:VEVENT
END:VCALENDAR
