BEGIN:VCALENDAR
VERSION:2.0
CALSCALE:GREGORIAN
PRODID:-//Diputació de Barcelona//DibaCMS//EN
BEGIN:VEVENT
UID:5251
DTSTAMP:20260424T041426
DTSTART:20120709T000000
DTEND:20130709T000000
SUMMARY:Detingut un veí de la Llagosta per la Policia Local per violència de gènere
LOCATION:
METHOD:PUBLISH
X-WR-CALNAME:llagosta@llagosta.cat
X-WR-TIMEZONE:Europe/Madrid
DESCRIPTION:La Policia Local de la Llagosta ha detingut aquesta nit un veí de la nostra localitat acusat de violència de gènere. La detenció s'ha produït poc abans de la una. La Policia va rebre una trucada de la filla menor de la víctima. Presentats els agents al lloc dels fets, la dona va denunciar la seva parella per maltractaments. 
URI:https://www.llagosta.cat/actualitat/noticies/detingut-un-vei-de-la-llagosta-per-la-policia-local-per-violencia-de-genere.html
CLASS:PUBLIC
END:VEVENT
END:VCALENDAR
