BEGIN:VCALENDAR
VERSION:2.0
CALSCALE:GREGORIAN
PRODID:-//Diputació de Barcelona//DibaCMS//EN
BEGIN:VEVENT
UID:5250
DTSTAMP:20260424T111747
DTSTART:20120706T000000
DTEND:20130706T000000
SUMMARY:Set equips participaran dissabte i diumenge en el torneig de 24 hores de futbol sala
LOCATION:
METHOD:PUBLISH
X-WR-CALNAME:llagosta@llagosta.cat
X-WR-TIMEZONE:Europe/Madrid
DESCRIPTION:Demà, començarà el torneig de 24 hores de futbol sala organitzat per la Unión Llagostense. Finalment, set equips participaran en aquesta competició, que es desenvoluparà durant el cap de setmana al Poliesportiu Riera Seca.
URI:https://www.llagosta.cat/actualitat/noticies/set-equips-participaran-dissabte-i-diumenge-en-el-torneig-de-24-hores-de-futbol-sala.html
CLASS:PUBLIC
END:VEVENT
END:VCALENDAR
