BEGIN:VCALENDAR
VERSION:2.0
CALSCALE:GREGORIAN
PRODID:-//Diputació de Barcelona//DibaCMS//EN
BEGIN:VEVENT
UID:5249
DTSTAMP:20260423T224111
DTSTART:20120706T000000
DTEND:20130706T000000
SUMMARY:L'Agrupación Cultural Galega Alborada celebra la festa en honor a Santiago Apòstol
LOCATION:
METHOD:PUBLISH
X-WR-CALNAME:llagosta@llagosta.cat
X-WR-TIMEZONE:Europe/Madrid
DESCRIPTION:Avui comença la quinzena festa en honor a Santiago Apòstol. Durant tot el cap de setmana, el Parc Popular acollirà tot un seguit d'actes organitzats per l’Agrupación Cultural Galega Alborada. La programació serà similar a la d'altres ocasions. 
URI:https://www.llagosta.cat/actualitat/noticies/14-04-2015-lagrupacion-cultural-galega-alborada-celebra-la-festa-en-honor-a-santiago-apostol.html
CLASS:PUBLIC
END:VEVENT
END:VCALENDAR
