BEGIN:VCALENDAR
VERSION:2.0
CALSCALE:GREGORIAN
PRODID:-//Diputació de Barcelona//DibaCMS//EN
BEGIN:VEVENT
UID:5248
DTSTAMP:20260424T043912
DTSTART:20120706T000000
DTEND:20130706T000000
SUMMARY:Avui es distribueix el Butlletí d'Informació Municipal del mes de juliol
LOCATION:
METHOD:PUBLISH
X-WR-CALNAME:llagosta@llagosta.cat
X-WR-TIMEZONE:Europe/Madrid
DESCRIPTION:L'Ajuntament de la Llagosta treu avui al carrer el Butlletí d'Informació Municipal del mes de juliol. La publicació recull les darreres notícies que ha generat el Consistori i destaca en portava la primera Mostra d'Entitats.
URI:https://www.llagosta.cat/actualitat/noticies/avui-es-distribueix-el-butlleti-dinformacio-municipal-del-mes-de-juliol.html
CLASS:PUBLIC
END:VEVENT
END:VCALENDAR
