BEGIN:VCALENDAR
VERSION:2.0
CALSCALE:GREGORIAN
PRODID:-//Diputació de Barcelona//DibaCMS//EN
BEGIN:VEVENT
UID:5247
DTSTAMP:20260423T080620
DTSTART:20120706T000000
DTEND:20130706T000000
SUMMARY:Antonio Rísquez (PSC) assegura que el primer any del mandat ha estat un any perdut
LOCATION:
METHOD:PUBLISH
X-WR-CALNAME:llagosta@llagosta.cat
X-WR-TIMEZONE:Europe/Madrid
DESCRIPTION:El portaveu del grup municipal del Partit dels Socialistes, Antonio Rísquez, ha assegurat avui que el primer any del mandat ha estat un any perdut en el qual la Llagosta ha anat enrere. Rísquez ha indicat que el PSC ha estat víctima d'un atac persistent durant aquest any.
URI:https://www.llagosta.cat/actualitat/noticies/antonio-risquez-psc-assegura-que-el-primer-any-del-mandat-ha-estat-un-any-perdut.html
CLASS:PUBLIC
END:VEVENT
END:VCALENDAR
