BEGIN:VCALENDAR
VERSION:2.0
CALSCALE:GREGORIAN
PRODID:-//Diputació de Barcelona//DibaCMS//EN
BEGIN:VEVENT
UID:5246
DTSTAMP:20260423T102413
DTSTART:20120705T000000
DTEND:20130705T000000
SUMMARY:Demà, un taller organitzat per la Biblioteca i primera sessió de Ioga en família
LOCATION:
METHOD:PUBLISH
X-WR-CALNAME:llagosta@llagosta.cat
X-WR-TIMEZONE:Europe/Madrid
DESCRIPTION:La programació Estiu 2012 inclou per a demà divendres un taller sobre L'art d'explicar un conte. L'activitat es farà a la Biblioteca Municipal de la Llagosta a partir de les deu del matí. 
URI:https://www.llagosta.cat/actualitat/noticies/dema-un-taller-organitzat-per-la-biblioteca-i-primera-sessio-de-ioga-en-familia.html
CLASS:PUBLIC
END:VEVENT
END:VCALENDAR
