BEGIN:VCALENDAR
VERSION:2.0
CALSCALE:GREGORIAN
PRODID:-//Diputació de Barcelona//DibaCMS//EN
BEGIN:VEVENT
UID:5245
DTSTAMP:20260424T002802
DTSTART:20120705T000000
DTEND:20130705T000000
SUMMARY:Es firma un conveni amb dues empreses locals per finançar activitats culturals a la Llagosta
LOCATION:
METHOD:PUBLISH
X-WR-CALNAME:llagosta@llagosta.cat
X-WR-TIMEZONE:Europe/Madrid
DESCRIPTION:L'Ajuntament de la Llagosta va signar ahir convenis amb dues empreses de la nostra localitat que ajudaran a finançar activitats culturals. En concret, Coynsa 2000 aportarà al Consistori 3.000 euros i Yesos Raúl, 2.000. 
URI:https://www.llagosta.cat/actualitat/noticies/es-firma-un-conveni-amb-dues-empreses-locals-per-financar-activitats-culturals-a-la-llagosta.html
CLASS:PUBLIC
END:VEVENT
END:VCALENDAR
