BEGIN:VCALENDAR
VERSION:2.0
CALSCALE:GREGORIAN
PRODID:-//Diputació de Barcelona//DibaCMS//EN
BEGIN:VEVENT
UID:5244
DTSTAMP:20260424T054036
DTSTART:20120705T000000
DTEND:20130705T000000
SUMMARY:El Consistori llagostenc es reuneix amb altres municipis afectats per la futura MAT
LOCATION:
METHOD:PUBLISH
X-WR-CALNAME:llagosta@llagosta.cat
X-WR-TIMEZONE:Europe/Madrid
DESCRIPTION:L'Ajuntament de la Llagosta està mantenint contactes amb municipis del nostre entorn per on està previst que passi la línia de molt alta tensió (MAT) que projecta Red Eléctrica Española. Aquesta infraestructura substituiria l'actual línia que transcorre per la llera de la riera de Caldes.
URI:https://www.llagosta.cat/actualitat/noticies/el-consistori-llagostenc-es-reuneix-amb-altres-municipis-afectats-per-la-futura-mat.html
CLASS:PUBLIC
END:VEVENT
END:VCALENDAR
