BEGIN:VCALENDAR
VERSION:2.0
CALSCALE:GREGORIAN
PRODID:-//Diputació de Barcelona//DibaCMS//EN
BEGIN:VEVENT
UID:5243
DTSTAMP:20260423T101342
DTSTART:20120705T000000
DTEND:20130705T000000
SUMMARY:Jordi Alonso (ICV-EUiA) assegura que el pacte de govern a la Llagosta és sòlid
LOCATION:
METHOD:PUBLISH
X-WR-CALNAME:llagosta@llagosta.cat
X-WR-TIMEZONE:Europe/Madrid
DESCRIPTION:El portaveu del grup municipal d'Iniciativa per Catalunya Verds-Esquerra Unida i Alternativa, Jordi Alonso, ha assegurat avui que el pacte de govern de l'Ajuntament de la Llagosta és sòlid. Alonso espera acabar el mandat amb els mateixos nou regidors a l'equip de govern. 
URI:https://www.llagosta.cat/actualitat/noticies/jordi-alonso-icv-euia-assegura-que-el-pacte-de-govern-a-la-llagosta-es-solid.html
CLASS:PUBLIC
END:VEVENT
END:VCALENDAR
