BEGIN:VCALENDAR
VERSION:2.0
CALSCALE:GREGORIAN
PRODID:-//Diputació de Barcelona//DibaCMS//EN
BEGIN:VEVENT
UID:5242
DTSTAMP:20260424T111820
DTSTART:20120704T000000
DTEND:20130704T000000
SUMMARY:Dels 20 alumnes de l'Institut Marina que van fer la selectivitat van aprovar 17
LOCATION:
METHOD:PUBLISH
X-WR-CALNAME:llagosta@llagosta.cat
X-WR-TIMEZONE:Europe/Madrid
DESCRIPTION:Un total de 17 dels 20 alumnes de l'Institut Marina de La Llagosta que es van presentar a les proves de selectivitat per poder accedir a la universitat han aprovat l’examen a la convocatòria de juny. El percentatge d'aprovats ha disminuït respecte l'any passat, quan van superar les proves la totalitat d'estudiants que s'hi van presentar.
URI:https://www.llagosta.cat/actualitat/noticies/dels-20-alumnes-de-linstitut-marina-que-van-fer-la-selectivitat-van-aprovar-17.html
CLASS:PUBLIC
END:VEVENT
END:VCALENDAR
