BEGIN:VCALENDAR
VERSION:2.0
CALSCALE:GREGORIAN
PRODID:-//Diputació de Barcelona//DibaCMS//EN
BEGIN:VEVENT
UID:5241
DTSTAMP:20260423T153504
DTSTART:20120704T000000
DTEND:20130704T000000
SUMMARY:L'Ajuntament de la Llagosta signa un conveni per promoure la internalització d'empreses
LOCATION:
METHOD:PUBLISH
X-WR-CALNAME:llagosta@llagosta.cat
X-WR-TIMEZONE:Europe/Madrid
DESCRIPTION:Els ajuntaments de la Llagosta, Palau-solità i Plegamans, Polinyà i Santa Perpetua de Mogoda han signat aquest matí un conveni de cooperació per posar en marxa el projecte d'internacionalització d'empreses Exportes? Aquesta iniciativa vol promoure l'exportació en empreses petites i mitjanes.

URI:https://www.llagosta.cat/actualitat/noticies/lajuntament-de-la-llagosta-signa-un-conveni-per-promoure-la-internalitzacio-dempreses.html
CLASS:PUBLIC
END:VEVENT
END:VCALENDAR
