BEGIN:VCALENDAR
VERSION:2.0
CALSCALE:GREGORIAN
PRODID:-//Diputació de Barcelona//DibaCMS//EN
BEGIN:VEVENT
UID:5240
DTSTAMP:20260423T141237
DTSTART:20120704T000000
DTEND:20130704T000000
SUMMARY:Demà, concert a la fresca i torneig 3x3 de futbol sala dins de la programació d'estiu
LOCATION:
METHOD:PUBLISH
X-WR-CALNAME:llagosta@llagosta.cat
X-WR-TIMEZONE:Europe/Madrid
DESCRIPTION:L'Escola Municipal de Música protagonitzarà demà el quart concert a la fresca organitzat pel col·lectiu La Llagosta + Activa. El recital començarà a les vuit del vespre a la plaça de la Sardana.
URI:https://www.llagosta.cat/actualitat/noticies/dema-concert-a-la-fresca-i-torneig-3x3-de-futbol-sala-dins-de-la-programacio-destiu.html
CLASS:PUBLIC
END:VEVENT
END:VCALENDAR
