BEGIN:VCALENDAR
VERSION:2.0
CALSCALE:GREGORIAN
PRODID:-//Diputació de Barcelona//DibaCMS//EN
BEGIN:VEVENT
UID:5239
DTSTAMP:20260424T020452
DTSTART:20120704T000000
DTEND:20130704T000000
SUMMARY:El Viejas Glorias va acabar dissabte la temporada amb la disputa d'un partit amistós
LOCATION:
METHOD:PUBLISH
X-WR-CALNAME:llagosta@llagosta.cat
X-WR-TIMEZONE:Europe/Madrid
DESCRIPTION:El Club Deportivo Viejas Glorias va posar dissabte el punt final a la temporada amb un partit amistós entre els jugadors actuals de l'equip i antics excomponents. La jornada va acabar amb un piscolabis. 
URI:https://www.llagosta.cat/actualitat/noticies/el-viejas-glorias-va-acabar-dissabte-la-temporada-amb-la-disputa-dun-partit-amistos.html
CLASS:PUBLIC
END:VEVENT
END:VCALENDAR
