BEGIN:VCALENDAR
VERSION:2.0
CALSCALE:GREGORIAN
PRODID:-//Diputació de Barcelona//DibaCMS//EN
BEGIN:VEVENT
UID:5238
DTSTAMP:20260424T024108
DTSTART:20120704T000000
DTEND:20130704T000000
SUMMARY:Mireia Egea (CiU) destaca del primer any del mandat la protecció de la masia de Can Baqué
LOCATION:
METHOD:PUBLISH
X-WR-CALNAME:llagosta@llagosta.cat
X-WR-TIMEZONE:Europe/Madrid
DESCRIPTION:La portaveu del grup municipal de Convergència i Unió a l'Ajuntament de la Llagosta, Mireia Egea, ha dit avui que, en general, el primer any de mandat ha anat bé. Egea ha destacat, d'entre les actuacions realitzades per l'equip de govern, la protecció de la masia de Can Baqué, el trasllat de l'Oficina d'Atenció a la Ciutadania a l'edifici de l'Ajuntament i el pagament de factures endarrerides a proveïdors.
URI:https://www.llagosta.cat/actualitat/noticies/mireia-egea-ciu-destaca-del-primer-any-del-mandat-la-proteccio-de-la-masia-de-can-baque.html
CLASS:PUBLIC
END:VEVENT
END:VCALENDAR
