BEGIN:VCALENDAR
VERSION:2.0
CALSCALE:GREGORIAN
PRODID:-//Diputació de Barcelona//DibaCMS//EN
BEGIN:VEVENT
UID:5237
DTSTAMP:20260423T184755
DTSTART:20120703T000000
DTEND:20130703T000000
SUMMARY:El llagostenc Antonio García es lesiona i es perdrà els Jocs Olímpics de Londres
LOCATION:
METHOD:PUBLISH
X-WR-CALNAME:llagosta@llagosta.cat
X-WR-TIMEZONE:Europe/Madrid
DESCRIPTION:Les esperances d'Antonio García de participar a les Olimpíades de Londres s'han estroncat. Garcia ha patit una lesió durant la concentració a Andorra de la selecció espanyola d'handbol. L'esportista llagostenc estarà de baixa uns dos mesos.
URI:https://www.llagosta.cat/actualitat/noticies/el-llagostenc-antonio-garcia-es-lesiona-i-es-perdra-els-jocs-olimpics-de-londres.html
CLASS:PUBLIC
END:VEVENT
END:VCALENDAR
